BEGIN:VCALENDAR
VERSION:2.0
CALSCALE:GREGORIAN
PRODID:adamgibbons/ics
METHOD:PUBLISH
X-PUBLISHED-TTL:PT1H
BEGIN:VEVENT
UID:44@sydney.askapunk.au
SUMMARY:Spew Balloon [naarm]\, Skezm [naarm]\, body melt\, padre primate\, 
	outcest - 185 bar
DTSTAMP:20260421T100228Z
DTSTART:20260502T090000Z
DTEND:20260503T020000Z
DESCRIPTION:02.05.2026\n185 Bar -185 Marrickville Rd\, Marrickville\n7PM //
	 Free\n\nSpew Balloon [Naarm]\nSkezm [Naarm]\nBody Melt [Awabakal]\nPadre 
	Primate\nOutcest
URL:https://sydney.askapunk.au/event/spew-balloon-naarm-skezm-naarm-body-me
	lt-padre-primate-outcest-185-bar-020526
LOCATION:185 Bar - 185 Marrickville Rd\, Marrickville
STATUS:CONFIRMED
CATEGORIES:185 bar,Padre Primate,Body Melt,spew baloon,skezm,outcest,punk,g
	rind,fastcore
X-ALT-DESC;FMTTYPE=text/html:<p>02.05.2026<br>185 Bar -185 Marrickville Rd,
	 Marrickville<br>7PM // Free<br><br>Spew Balloon [Naarm]<br>Skezm [Naarm]<
	br>Body Melt [Awabakal]<br>Padre Primate<br>Outcest</p>
BEGIN:VALARM
ACTION:DISPLAY
DESCRIPTION:Spew Balloon [naarm], Skezm [naarm], body melt, padre primate, 
	outcest - 185 bar
TRIGGER:-PT1H
END:VALARM
END:VEVENT
END:VCALENDAR
