BEGIN:VCALENDAR
VERSION:2.0
CALSCALE:GREGORIAN
PRODID:adamgibbons/ics
METHOD:PUBLISH
X-PUBLISHED-TTL:PT1H
BEGIN:VEVENT
UID:41@sydney.askapunk.au
SUMMARY:Rotten Sound (FIN)\, Choof\, Horrisonous\, Body Melt\, Fat Monica
DTSTAMP:20260421T100235Z
DTSTART:20260507T090000Z
DTEND:20260507T133000Z
DESCRIPTION:After more than a decade\, Finland's grind kings ROTTEN SOUND a
	re returning to\npunish Australia in 2026 with fast\, violent and unforgiv
	ing grind delivered at\nfull force.\n\nFor over three decades Rotten Sound
	 have stood at the absolute forefront of\ngrindcore\, delivering a hostile
	 and uncompromising sonic assault. The band has\nbuilt their reputation on
	 sheer intensity and pure contempt.\n\nNo trends\, just grind.\n\nRotten S
	ound will tear through Australia delivering a set stacked with material\ns
	panning their extensive catalog – including their 2024 EP Mass Extinction.
	\n\nExpect chaos. If you know\, you know. If you don’t\, you’re about to f
	ind out.\n\nTICKETS\n[https://tickets.oztix.com.au/outlet/event/8c67aa60-f
	493-4de0-83ff-96b3c2eabc87]
URL:https://sydney.askapunk.au/event/rotten-sound-fin-choof
GEO:-33.8877179;151.159341
LOCATION:Crowbar - 345 Parramatta Rd\, Leichhardt
STATUS:CONFIRMED
CATEGORIES:Rotten Sound,Choof,Horrisonous,Body Melt,Fat Monica
X-ALT-DESC;FMTTYPE=text/html:<p>After more than a decade, Finland's grind k
	ings ROTTEN SOUND are returning to punish Australia in 2026 with fast, vio
	lent and unforgiving grind delivered at full force.<br><br>For over three 
	decades Rotten Sound have stood at the absolute forefront of grindcore, de
	livering a hostile and uncompromising sonic assault. The band has built th
	eir reputation on sheer intensity and pure contempt.<br><br>No trends, jus
	t grind.<br><br>Rotten Sound will tear through Australia delivering a set 
	stacked with material spanning their extensive catalog – including their 2
	024 EP Mass Extinction.<br><br>Expect chaos. If you know, you know. If you
	 don’t, you’re about to find out.</p><p><a href="https://tickets.oztix.com
	.au/outlet/event/8c67aa60-f493-4de0-83ff-96b3c2eabc87" target="_blank">TIC
	KETS</a></p>
BEGIN:VALARM
ACTION:DISPLAY
DESCRIPTION:Rotten Sound (FIN), Choof, Horrisonous, Body Melt, Fat Monica
TRIGGER:-PT1H
END:VALARM
END:VEVENT
END:VCALENDAR
