BEGIN:VCALENDAR
VERSION:2.0
CALSCALE:GREGORIAN
PRODID:adamgibbons/ics
METHOD:PUBLISH
X-PUBLISHED-TTL:PT1H
BEGIN:VEVENT
UID:38@sydney.askapunk.au
SUMMARY:P.L.F (US)\, Padre Primate
DTSTAMP:20260421T141508Z
DTSTART:20260413T090000Z
DTEND:20260413T130000Z
DESCRIPTION:FREE SHOW!
URL:https://sydney.askapunk.au/event/plf-us-padre-primate
GEO:-33.8991217;151.1713547
LOCATION:Enmore Hotel - 199 Enmore Rd\, Enmore
STATUS:CONFIRMED
CATEGORIES:FREE SHOW,P.L.F,Padre Primate
X-ALT-DESC;FMTTYPE=text/html:<p><strong>FREE SHOW!</strong></p>
BEGIN:VALARM
ACTION:DISPLAY
DESCRIPTION:P.L.F (US), Padre Primate
TRIGGER:-PT1H
END:VALARM
END:VEVENT
END:VCALENDAR
