BEGIN:VCALENDAR
VERSION:2.0
CALSCALE:GREGORIAN
PRODID:adamgibbons/ics
METHOD:PUBLISH
X-PUBLISHED-TTL:PT1H
BEGIN:VEVENT
UID:35@sydney.askapunk.au
SUMMARY:Petrol\, ORC (ACT)\, Gift Giver\, Skoundrel
DTSTAMP:20260421T111022Z
DTSTART:20260328T080000Z
DTEND:20260328T123000Z
DESCRIPTION:FREE SHOW!
URL:https://sydney.askapunk.au/event/petrol-orc-act-gift-giver-skoundrel
LOCATION:185 Bar - 185 Marrickville Rd\, Marrickville
STATUS:CONFIRMED
CATEGORIES:Orc,Gift Giver,Petrol,Skoundrel,FREE SHOW
X-ALT-DESC;FMTTYPE=text/html:<p><strong>FREE SHOW!</strong></p>
BEGIN:VALARM
ACTION:DISPLAY
DESCRIPTION:Petrol, ORC (ACT), Gift Giver, Skoundrel
TRIGGER:-PT1H
END:VALARM
END:VEVENT
END:VCALENDAR
