BEGIN:VCALENDAR
VERSION:2.0
CALSCALE:GREGORIAN
PRODID:adamgibbons/ics
METHOD:PUBLISH
X-PUBLISHED-TTL:PT1H
BEGIN:VEVENT
UID:34@sydney.askapunk.au
SUMMARY:Perfect Actress\, Saw in Half\, Black Metal 3\, Eratics
DTSTAMP:20260421T123043Z
DTSTART:20260327T083000Z
DTEND:20260327T120000Z
DESCRIPTION:*This event is taking place on stolen Gadigal & Wangal land. Th
	e organisers\nacknowledge that sovereignty has never been ceded and pay ou
	r respects to First\nNations Elders\, past and present. Always was\, alway
	s will be Aboriginal land.*\n\n~ Saturday 20/09/25 at The Petersham Bowlin
	g Club.\n~ Doors at 7:30pm.\n~ $10 presale\, $15 at the door (cash or card
	!). No one turned away for lack of\nfunds. Free entry for First Nations at
	tendees\, email sawinhalf@proton.me to\norganise.\n~ 18+\n\nPERFECT ACTRES
	S\nPerfect post-punx playing powerfully. First show of ‘26!\nhttps://perfe
	ctactress.bandcamp.com/ [https://perfectactress.bandcamp.com/]\nhttps://ww
	w.instagram.com/perfect.actress/\n[https://www.instagram.com/perfect.actre
	ss/]\n\nSAW IN HALF\nThe band that is called Saw In Half. Yet to beat the 
	“screamo” allegations.\nhttps://sawinhalf.ampwall.com/ [https://sawinhalf.
	ampwall.com/]\nhttps://instagram.com/saw_in_half/ [https://instagram.com/s
	aw_in_half/]\n\nBLACK METAL 3\n2/3 of Withdrawe\, 2/3 of No Ceremony\, 3/3
	 of Black Metal 3. Huge drone/noise\nwith synth\, guitar\, sax and flute. 
	Have definitely beaten the “black metal”\nallegations.\n\nERATICS\nFirst s
	how! Not a typo! Feat. members of Witness K\, Double Date\, Ex- Colleague\
	,\nOsbo\, The Baby and many more.\n\nPlease respect the venue and other at
	tendees' space ~ sexism\, racism\,\nhomophobia\, transphobia\, ableism\, a
	nd discriminatory or aggressive behaviour of\nany nature is not tolerated.
	 The organisers reserve the right to refuse you\nentry or ask you to leave
	 if you exhibit any of these.\n\nUnfortunately this venue is not wheelchai
	r accessible.
URL:https://sydney.askapunk.au/event/perfect-actress-saw-in-half-black-meta
	l-3-eratics
GEO:-33.8929336;151.1524886
LOCATION:Petersham Bowling Club - 77 Brighton Street\, Petersham
STATUS:CONFIRMED
CATEGORIES:
X-ALT-DESC;FMTTYPE=text/html:<p>*<strong>This event is taking place on stol
	en Gadigal &amp; Wangal land. The organisers acknowledge that sovereignty 
	has never been ceded and pay our respects to First Nations Elders, past an
	d present. Always was, always will be Aboriginal land.</strong>*</p><p>~ S
	aturday 20/09/25 at The Petersham Bowling Club.<br>~ Doors at 7:30pm.<br>~
	 $10 presale, $15 at the door (cash or card!). No one turned away for lack
	 of funds. Free entry for First Nations attendees, email sawinhalf@proton.
	me to organise.<br>~ 18+</p><p>PERFECT ACTRESS<br>Perfect post-punx playin
	g powerfully. First show of ‘26!<br><a target="_blank" href="https://perfe
	ctactress.bandcamp.com/"><strong>https://perfectactress.bandcamp.com/</str
	ong></a> <a target="_blank" href="https://www.instagram.com/perfect.actres
	s/"><strong>https://www.instagram.com/perfect.actress/</strong></a></p><p>
	SAW IN HALF<br>The band that is called Saw In Half. Yet to beat the “screa
	mo” allegations.<br><a target="_blank" href="https://sawinhalf.ampwall.com
	/"><strong>https://sawinhalf.ampwall.com/</strong></a><br><a target="_blan
	k" href="https://instagram.com/saw_in_half/"><strong>https://instagram.com
	/saw_in_half/</strong></a></p><p>BLACK METAL 3<br>2/3 of Withdrawe, 2/3 of
	 No Ceremony, 3/3 of Black Metal 3. Huge drone/noise with synth, guitar, s
	ax and flute. Have definitely beaten the “black metal” allegations.</p><p>
	ERATICS<br>First show! Not a typo! Feat. members of Witness K, Double Date
	, Ex- Colleague, Osbo, The Baby and many more.</p><p><strong>Please respec
	t the venue and other attendees' space ~ sexism, racism, homophobia, trans
	phobia, ableism, and discriminatory or aggressive behaviour of any nature 
	is not tolerated. The organisers reserve the right to refuse you entry or 
	ask you to leave if you exhibit any of these.</strong></p><p><strong>Unfor
	tunately this venue is not wheelchair accessible.</strong></p>
BEGIN:VALARM
ACTION:DISPLAY
DESCRIPTION:Perfect Actress, Saw in Half, Black Metal 3, Eratics
TRIGGER:-PT1H
END:VALARM
END:VEVENT
END:VCALENDAR
