BEGIN:VCALENDAR
VERSION:2.0
CALSCALE:GREGORIAN
PRODID:adamgibbons/ics
METHOD:PUBLISH
X-PUBLISHED-TTL:PT1H
BEGIN:VEVENT
UID:43@sydney.askapunk.au
SUMMARY:Arrows (QLD)\, Jen Buxton and the Slaughterhouse Five\, Sun Run\, J
	amie Hay\, Jack R. Riley
DTSTAMP:20260421T095745Z
DTSTART:20260424T093000Z
DTEND:20260424T133000Z
DESCRIPTION:Dormant Brisbane emo band Arrows are returning to Sydney for on
	e night only this\nApril. Twenty years after the release of their debut EP
	 Don't Write Poetry\, the\nband are taking the stage again for select show
	s in Brisbane\, Melbourne\, and\nSydney.\n\nThe band's textural and intros
	pective sound won them fans across the globe.\nTheir seminal release Moder
	n Art & Politics topped many year-end lists in 2008 -\npraised for it's mi
	xture of 90s emo\, shoegaze\, and post-rock. Arrows' music is\nunderstated
	 but heavy\, emotional without theatrics\, and distinctly Australian.\n\nT
	he band were last in Sydney in 2015\, reforming to supporting seminal emo 
	band\nMineral on their Australian Tour. This time\, the band are joined by
	 old friends\;\nJen Buxton & The Slaughterhouse Five\, Sun Run\, Jamie Hay
	 and Jack R. Reilly.\n\nTICKETS\n[https://tickets.oztix.com.au/outlet/even
	t/135e86c7-fd82-46f8-ba8b-a9bfa74c9b8f]
URL:https://sydney.askapunk.au/event/arrows-qld-jen-buxton-and-the-slaughte
	rhouse-five-sun-run-jamie-hay-jack-r-riley
GEO:-33.8874295;151.1986847
LOCATION:The Chippo - 87-91 Abercrombie St\, Chippendale
STATUS:CONFIRMED
CATEGORIES:Jamie Hay,Arrows,Jen Buxton and the Slaughterhouse Five,Sun Run,
	Jack R. Riley
X-ALT-DESC;FMTTYPE=text/html:<p>Dormant Brisbane emo band Arrows are return
	ing to Sydney for one night only this April. Twenty years after the releas
	e of their debut EP Don't Write Poetry, the band are taking the stage agai
	n for select shows in Brisbane, Melbourne, and Sydney.<br><br>The band's t
	extural and introspective sound won them fans across the globe. Their semi
	nal release Modern Art &amp; Politics topped many year-end lists in 2008 -
	 praised for it's mixture of 90s emo, shoegaze, and post-rock. Arrows' mus
	ic is understated but heavy, emotional without theatrics, and distinctly A
	ustralian.<br><br>The band were last in Sydney in 2015, reforming to suppo
	rting seminal emo band Mineral on their Australian Tour. This time, the ba
	nd are joined by old friends; Jen Buxton &amp; The Slaughterhouse Five, Su
	n Run, Jamie Hay and Jack R. Reilly.</p><p><a target="_blank" href="https:
	//tickets.oztix.com.au/outlet/event/135e86c7-fd82-46f8-ba8b-a9bfa74c9b8f">
	TICKETS</a></p>
BEGIN:VALARM
ACTION:DISPLAY
DESCRIPTION:Arrows (QLD), Jen Buxton and the Slaughterhouse Five, Sun Run, 
	Jamie Hay, Jack R. Riley
TRIGGER:-PT1H
END:VALARM
END:VEVENT
END:VCALENDAR
